BEGIN:VCALENDAR
VERSION:2.0
PRODID:-//West Highlands HOA - ECPv5.12.4//NONSGML v1.0//EN
CALSCALE:GREGORIAN
METHOD:PUBLISH
X-WR-CALNAME:West Highlands HOA
X-ORIGINAL-URL:https://www.westhighlandsatl.com
X-WR-CALDESC:Events for West Highlands HOA
REFRESH-INTERVAL;VALUE=DURATION:PT1H
X-Robots-Tag:noindex
X-PUBLISHED-TTL:PT1H
BEGIN:VTIMEZONE
TZID:America/New_York
BEGIN:DAYLIGHT
TZOFFSETFROM:-0500
TZOFFSETTO:-0400
TZNAME:EDT
DTSTART:20240310T070000
END:DAYLIGHT
BEGIN:STANDARD
TZOFFSETFROM:-0400
TZOFFSETTO:-0500
TZNAME:EST
DTSTART:20241103T060000
END:STANDARD
END:VTIMEZONE
BEGIN:VEVENT
DTSTART;VALUE=DATE:20240518
DTEND;VALUE=DATE:20240519
DTSTAMP:20260420T042856
CREATED:20240215T001731Z
LAST-MODIFIED:20240215T001731Z
UID:918-1715990400-1716076799@www.westhighlandsatl.com
SUMMARY:HOA Pool Facility Season Opening
DESCRIPTION:
URL:https://www.westhighlandsatl.com/event/hoa-pool-facility-season-opening-3/
LOCATION:HOA Swimming Pool Facility
END:VEVENT
END:VCALENDAR